BEGIN:VCALENDAR
VERSION:2.0
PRODID:-//PWV Weyher - ECPv6.14.2//NONSGML v1.0//EN
CALSCALE:GREGORIAN
METHOD:PUBLISH
X-WR-CALNAME:PWV Weyher
X-ORIGINAL-URL:https://www.pwv-weyher.de
X-WR-CALDESC:Veranstaltungen für PWV Weyher
REFRESH-INTERVAL;VALUE=DURATION:PT1H
X-Robots-Tag:noindex
X-PUBLISHED-TTL:PT1H
BEGIN:VTIMEZONE
TZID:Europe/Helsinki
BEGIN:DAYLIGHT
TZOFFSETFROM:+0200
TZOFFSETTO:+0300
TZNAME:EEST
DTSTART:20220327T010000
END:DAYLIGHT
BEGIN:STANDARD
TZOFFSETFROM:+0300
TZOFFSETTO:+0200
TZNAME:EET
DTSTART:20221030T010000
END:STANDARD
END:VTIMEZONE
BEGIN:VEVENT
DTSTART;TZID=Europe/Helsinki:20220403T100000
DTEND;TZID=Europe/Helsinki:20220403T100000
DTSTAMP:20260424T013718
CREATED:20220109T150122Z
LAST-MODIFIED:20220109T170124Z
UID:5461-1648980000-1648980000@www.pwv-weyher.de
SUMMARY:Familienwanderung
DESCRIPTION:Auf den Spuren der Römer – In der Nähe von Leistadt
URL:https://www.pwv-weyher.de/event/familienwanderung/
CATEGORIES:Familien
ORGANIZER;CN="Fam. Weidmann":MAILTO:Tanja.Weidmann@pwv-weyher.de
END:VEVENT
END:VCALENDAR